BEGIN:VCALENDAR
VERSION:2.0
PRODID:-//OSSBIG | Austria - ECPv6.15.20//NONSGML v1.0//EN
CALSCALE:GREGORIAN
METHOD:PUBLISH
X-WR-CALNAME:OSSBIG | Austria
X-ORIGINAL-URL:https://www.ossbig.at
X-WR-CALDESC:Veranstaltungen für OSSBIG | Austria
REFRESH-INTERVAL;VALUE=DURATION:PT1H
X-Robots-Tag:noindex
X-PUBLISHED-TTL:PT1H
BEGIN:VTIMEZONE
TZID:Europe/Vienna
BEGIN:DAYLIGHT
TZOFFSETFROM:+0100
TZOFFSETTO:+0200
TZNAME:CEST
DTSTART:20250330T010000
END:DAYLIGHT
BEGIN:STANDARD
TZOFFSETFROM:+0200
TZOFFSETTO:+0100
TZNAME:CET
DTSTART:20251026T010000
END:STANDARD
BEGIN:DAYLIGHT
TZOFFSETFROM:+0100
TZOFFSETTO:+0200
TZNAME:CEST
DTSTART:20260329T010000
END:DAYLIGHT
BEGIN:STANDARD
TZOFFSETFROM:+0200
TZOFFSETTO:+0100
TZNAME:CET
DTSTART:20261025T010000
END:STANDARD
BEGIN:DAYLIGHT
TZOFFSETFROM:+0100
TZOFFSETTO:+0200
TZNAME:CEST
DTSTART:20270328T010000
END:DAYLIGHT
BEGIN:STANDARD
TZOFFSETFROM:+0200
TZOFFSETTO:+0100
TZNAME:CET
DTSTART:20271031T010000
END:STANDARD
END:VTIMEZONE
BEGIN:VEVENT
DTSTART;VALUE=DATE:20261007
DTEND;VALUE=DATE:20261011
DTSTAMP:20260426T015825
CREATED:20251222T111636Z
LAST-MODIFIED:20251222T111647Z
UID:5543-1791334800-1791593999@www.ossbig.at
SUMMARY:Open Source Summit Europe 2026
DESCRIPTION:
URL:https://www.ossbig.at/event/open-source-summit-europe-2026/
LOCATION:Prag\, Prag\, Czech Republic
CATEGORIES:EXTERNES Event
ATTACH;FMTTYPE=application/pdf:https://www.ossbig.at/wp-content/uploads/2025/12/os-summit.pdf
END:VEVENT
BEGIN:VEVENT
DTSTART;TZID=Europe/Vienna:20261008T160000
DTEND;TZID=Europe/Vienna:20261008T200000
DTSTAMP:20260426T015825
CREATED:20251222T092257Z
LAST-MODIFIED:20260202T165934Z
UID:5507-1791475200-1791489600@www.ossbig.at
SUMMARY:80. OSSBIG Vereinssitzung
DESCRIPTION:80. OSSBIG Vereinssitzung (Stadt Wien)
URL:https://www.ossbig.at/event/80-ossbig-vereinssitzung/
LOCATION:Stadt Wien\, Wien\, Austria
CATEGORIES:INTERNES Event,OSSBIG Vereinssitzung
ATTACH;FMTTYPE=image/png:https://www.ossbig.at/wp-content/uploads/2023/05/Vereinssitzung.png
END:VEVENT
BEGIN:VEVENT
DTSTART;VALUE=DATE:20261011
DTEND;VALUE=DATE:20261015
DTSTAMP:20260426T015825
CREATED:20251222T110143Z
LAST-MODIFIED:20251222T110153Z
UID:5535-1791680400-1791939599@www.ossbig.at
SUMMARY:LSZ CIO Kongress
DESCRIPTION:
URL:https://www.ossbig.at/event/lsz-cio-kongress-26/
LOCATION:Congress Loipersdorf\, Schaffelbadstraße 220\, Bad Loipersdorf\, Steiermark\, 8282\, Österreich
CATEGORIES:EXTERNES Event
ATTACH;FMTTYPE=application/pdf:https://www.ossbig.at/wp-content/uploads/2025/12/lsz.pdf
END:VEVENT
BEGIN:VEVENT
DTSTART;VALUE=DATE:20261013
DTEND;VALUE=DATE:20261017
DTSTAMP:20260426T015825
CREATED:20260305T105845Z
LAST-MODIFIED:20260305T105859Z
UID:5742-1791853200-1792112399@www.ossbig.at
SUMMARY:SSCON26
DESCRIPTION:
URL:https://www.ossbig.at/event/sscon26/
LOCATION:Berlin Congress Center\, Deutschland
CATEGORIES:EXTERNES Event
ATTACH;FMTTYPE=image/svg+xml:https://www.ossbig.at/wp-content/uploads/2026/03/SSCON.svg
END:VEVENT
BEGIN:VEVENT
DTSTART;VALUE=DATE:20261118
DTEND;VALUE=DATE:20261120
DTSTAMP:20260426T015825
CREATED:20251222T110721Z
LAST-MODIFIED:20260305T104913Z
UID:5538-1794963600-1795049999@www.ossbig.at
SUMMARY:DINAcon 2026
DESCRIPTION:
URL:https://www.ossbig.at/event/dinacon-2026/
LOCATION:Bern\, Schweiz
CATEGORIES:EXTERNES Event
ATTACH;FMTTYPE=image/png:https://www.ossbig.at/wp-content/uploads/2026/03/DINAcon_Logo_web.png
END:VEVENT
BEGIN:VEVENT
DTSTART;VALUE=DATE:20261118
DTEND;VALUE=DATE:20261121
DTSTAMP:20260426T015825
CREATED:20251222T103230Z
LAST-MODIFIED:20260305T104454Z
UID:5517-1794963600-1795136399@www.ossbig.at
SUMMARY:Gaia-X Summit 26
DESCRIPTION:
URL:https://www.ossbig.at/event/gaia-x-summit-26/
LOCATION:Wien\, Wien\, Austria
CATEGORIES:EXTERNES Event
ATTACH;FMTTYPE=image/jpeg:https://www.ossbig.at/wp-content/uploads/2026/03/Gaia-X.jpg
END:VEVENT
BEGIN:VEVENT
DTSTART;TZID=Europe/Vienna:20261210T150000
DTEND;TZID=Europe/Vienna:20261210T160000
DTSTAMP:20260426T015825
CREATED:20251222T092438Z
LAST-MODIFIED:20251222T092448Z
UID:5510-1796914800-1796918400@www.ossbig.at
SUMMARY:81. OSSBIG Vorstandssitzung
DESCRIPTION:81. OSSBIG Vorstandssitzung (online)
URL:https://www.ossbig.at/event/81-ossbig-vorstandssitzung/
LOCATION:Online
CATEGORIES:INTERNES Event,OSSBIG Vorstandssitzung
ATTACH;FMTTYPE=image/png:https://www.ossbig.at/wp-content/uploads/2023/05/Vorstandssitzung.png
END:VEVENT
BEGIN:VEVENT
DTSTART;TZID=Europe/Vienna:20261210T160000
DTEND;TZID=Europe/Vienna:20261210T173000
DTSTAMP:20260426T015825
CREATED:20251222T092614Z
LAST-MODIFIED:20251222T092625Z
UID:5512-1796918400-1796923800@www.ossbig.at
SUMMARY:81. OSSBIG Vereinssitzung
DESCRIPTION:81. OSSBIG Vereinssitzung (online)
URL:https://www.ossbig.at/event/81-ossbig-vereinssitzung/
LOCATION:Online
CATEGORIES:INTERNES Event,OSSBIG Vereinssitzung
ATTACH;FMTTYPE=image/png:https://www.ossbig.at/wp-content/uploads/2023/05/Vereinssitzung.png
END:VEVENT
END:VCALENDAR