BEGIN:VCALENDAR
VERSION:2.0
PRODID:-//OSSBIG | Austria - ECPv6.15.20//NONSGML v1.0//EN
CALSCALE:GREGORIAN
METHOD:PUBLISH
X-WR-CALNAME:OSSBIG | Austria
X-ORIGINAL-URL:https://www.ossbig.at
X-WR-CALDESC:Veranstaltungen für OSSBIG | Austria
REFRESH-INTERVAL;VALUE=DURATION:PT1H
X-Robots-Tag:noindex
X-PUBLISHED-TTL:PT1H
BEGIN:VTIMEZONE
TZID:Europe/Vienna
BEGIN:DAYLIGHT
TZOFFSETFROM:+0100
TZOFFSETTO:+0200
TZNAME:CEST
DTSTART:20240331T010000
END:DAYLIGHT
BEGIN:STANDARD
TZOFFSETFROM:+0200
TZOFFSETTO:+0100
TZNAME:CET
DTSTART:20241027T010000
END:STANDARD
BEGIN:DAYLIGHT
TZOFFSETFROM:+0100
TZOFFSETTO:+0200
TZNAME:CEST
DTSTART:20250330T010000
END:DAYLIGHT
BEGIN:STANDARD
TZOFFSETFROM:+0200
TZOFFSETTO:+0100
TZNAME:CET
DTSTART:20251026T010000
END:STANDARD
BEGIN:DAYLIGHT
TZOFFSETFROM:+0100
TZOFFSETTO:+0200
TZNAME:CEST
DTSTART:20260329T010000
END:DAYLIGHT
BEGIN:STANDARD
TZOFFSETFROM:+0200
TZOFFSETTO:+0100
TZNAME:CET
DTSTART:20261025T010000
END:STANDARD
BEGIN:DAYLIGHT
TZOFFSETFROM:+0100
TZOFFSETTO:+0200
TZNAME:CEST
DTSTART:20270328T010000
END:DAYLIGHT
BEGIN:STANDARD
TZOFFSETFROM:+0200
TZOFFSETTO:+0100
TZNAME:CET
DTSTART:20271031T010000
END:STANDARD
END:VTIMEZONE
BEGIN:VEVENT
DTSTART;TZID=Europe/Vienna:20260409T160000
DTEND;TZID=Europe/Vienna:20260409T200000
DTSTAMP:20260426T033120
CREATED:20251222T091447Z
LAST-MODIFIED:20251222T091459Z
UID:5497-1775750400-1775764800@www.ossbig.at
SUMMARY:78. OSSBIG Vereinssitzung
DESCRIPTION:78. OSSBIG Vereinssitzung (ORF-Zentrum)
URL:https://www.ossbig.at/event/78-ossbig-vereinssitzung/
LOCATION:ORF-Zentrum\, Hugo-Portisch Gasse 1\, Wien\, 1130\, Austria
CATEGORIES:INTERNES Event,OSSBIG Vereinssitzung
ATTACH;FMTTYPE=image/png:https://www.ossbig.at/wp-content/uploads/2023/05/Vereinssitzung.png
END:VEVENT
BEGIN:VEVENT
DTSTART;VALUE=DATE:20260325
DTEND;VALUE=DATE:20260328
DTSTAMP:20260426T033120
CREATED:20251222T105718Z
LAST-MODIFIED:20251222T105729Z
UID:5532-1774400400-1774573199@www.ossbig.at
SUMMARY:confare CIO Summit
DESCRIPTION:
URL:https://www.ossbig.at/event/cio-summit-26/
LOCATION:Wien\, Wien\, Austria
CATEGORIES:EXTERNES Event
ATTACH;FMTTYPE=application/pdf:https://www.ossbig.at/wp-content/uploads/2025/12/confare.pdf
END:VEVENT
BEGIN:VEVENT
DTSTART;VALUE=DATE:20260324
DTEND;VALUE=DATE:20260326
DTSTAMP:20260426T033120
CREATED:20260128T163321Z
LAST-MODIFIED:20260128T163333Z
UID:5664-1774314000-1774400399@www.ossbig.at
SUMMARY:Nextcloud Enterprise Day Vienna 2026
DESCRIPTION:
URL:https://www.ossbig.at/event/nextcloudenterpriseday26/
LOCATION:Wien\, Wien\, Austria
CATEGORIES:EXTERNES Event
ATTACH;FMTTYPE=application/pdf:https://www.ossbig.at/wp-content/uploads/2026/01/nextcloud-enterprise-day.pdf
END:VEVENT
BEGIN:VEVENT
DTSTART;VALUE=DATE:20260324
DTEND;VALUE=DATE:20260329
DTSTAMP:20260426T033120
CREATED:20260117T180333Z
LAST-MODIFIED:20260117T180348Z
UID:5592-1774314000-1774659599@www.ossbig.at
SUMMARY:Fair Digital Objects Forum
DESCRIPTION:
URL:https://www.ossbig.at/event/fair-digital-objects-forum-26/
LOCATION:Wien\, Wien\, Austria
CATEGORIES:EXTERNES Event
ATTACH;FMTTYPE=application/pdf:https://www.ossbig.at/wp-content/uploads/2026/01/fair-digital-objects-forum.pdf
END:VEVENT
BEGIN:VEVENT
DTSTART;VALUE=DATE:20260323
DTEND;VALUE=DATE:20260325
DTSTAMP:20260426T033120
CREATED:20251222T093823Z
LAST-MODIFIED:20251222T093835Z
UID:5514-1774227600-1774313999@www.ossbig.at
SUMMARY:Open Source SecurityCon
DESCRIPTION:
URL:https://www.ossbig.at/event/open-source-securitycon/
LOCATION:Amsterdam
CATEGORIES:EXTERNES Event
ATTACH;FMTTYPE=application/pdf:https://www.ossbig.at/wp-content/uploads/2025/12/SecCon.pdf
END:VEVENT
BEGIN:VEVENT
DTSTART;TZID=Europe/Vienna:20260319T150000
DTEND;TZID=Europe/Vienna:20260319T200000
DTSTAMP:20260426T033120
CREATED:20251222T090942Z
LAST-MODIFIED:20251222T091543Z
UID:5495-1773932400-1773950400@www.ossbig.at
SUMMARY:78. OSSBIG Vorstandssitzung
DESCRIPTION:78. OSSBIG Vorstandssitzung (Linz)
URL:https://www.ossbig.at/event/78-ossbig-vorstandssitzung/
LOCATION:Landhaus Linz\, Landhausplatz 1\, Linz\, 4020\, Austria
CATEGORIES:INTERNES Event,OSSBIG Vorstandssitzung
ATTACH;FMTTYPE=image/png:https://www.ossbig.at/wp-content/uploads/2023/05/Vorstandssitzung.png
END:VEVENT
BEGIN:VEVENT
DTSTART;VALUE=DATE:20260305
DTEND;VALUE=DATE:20260307
DTSTAMP:20260426T033120
CREATED:20251222T114719Z
LAST-MODIFIED:20251222T114728Z
UID:5558-1772672400-1772758799@www.ossbig.at
SUMMARY:proxtalks 26
DESCRIPTION:
URL:https://www.ossbig.at/event/proxtalks-26/
LOCATION:Wien\, Wien\, Austria
CATEGORIES:EXTERNES Event
ATTACH;FMTTYPE=application/pdf:https://www.ossbig.at/wp-content/uploads/2025/12/proxtalks.pdf
END:VEVENT
BEGIN:VEVENT
DTSTART;VALUE=DATE:20260210
DTEND;VALUE=DATE:20260213
DTSTAMP:20260426T033120
CREATED:20251222T103754Z
LAST-MODIFIED:20260117T180845Z
UID:5520-1770685200-1770857999@www.ossbig.at
SUMMARY:Data Spaces Symposium 2026
DESCRIPTION:
URL:https://www.ossbig.at/event/data-spaces-symposium-26/
LOCATION:Madrid\, Madrid\, Spain
CATEGORIES:EXTERNES Event
ATTACH;FMTTYPE=application/pdf:https://www.ossbig.at/wp-content/uploads/2025/12/Data-Spaces-Symposium.pdf
END:VEVENT
BEGIN:VEVENT
DTSTART;VALUE=DATE:20260202
DTEND;VALUE=DATE:20260207
DTSTAMP:20260426T033120
CREATED:20250710T092539Z
LAST-MODIFIED:20250710T093139Z
UID:5367-1769994000-1770339599@www.ossbig.at
SUMMARY:SNS4SNS 2026
DESCRIPTION:
URL:https://www.ossbig.at/event/etsi/
LOCATION:Sophia Antipolis\, France
CATEGORIES:EXTERNES Event
ATTACH;FMTTYPE=application/pdf:https://www.ossbig.at/wp-content/uploads/2025/07/ETSI.pdf
END:VEVENT
BEGIN:VEVENT
DTSTART;VALUE=DATE:20260131
DTEND;VALUE=DATE:20260203
DTSTAMP:20260426T033120
CREATED:20260129T081510Z
LAST-MODIFIED:20260129T081847Z
UID:5667-1769821200-1769993999@www.ossbig.at
SUMMARY:FOSSDEM 26
DESCRIPTION:
URL:https://www.ossbig.at/event/fossdem26/
LOCATION:Université libre de Bruxelles\, Avenue Franklin D. Roosevelt 50\, Bruxelles\, 1050\, Belgium
CATEGORIES:EXTERNES Event
ATTACH;FMTTYPE=application/pdf:https://www.ossbig.at/wp-content/uploads/2026/01/fossdem26.pdf
END:VEVENT
BEGIN:VEVENT
DTSTART;TZID=Europe/Vienna:20260130T090000
DTEND;TZID=Europe/Vienna:20260130T180000
DTSTAMP:20260426T033120
CREATED:20251003T120918Z
LAST-MODIFIED:20251003T121156Z
UID:5468-1769763600-1769796000@www.ossbig.at
SUMMARY:Open Source Policy Summit 26
DESCRIPTION:
URL:https://www.ossbig.at/event/open-source-policy-summit-26/
LOCATION:Université libre de Bruxelles\, Avenue Franklin D. Roosevelt 50\, Bruxelles\, 1050\, Belgium
CATEGORIES:EXTERNES Event
ATTACH;FMTTYPE=application/pdf:https://www.ossbig.at/wp-content/uploads/2025/10/policy-summit.pdf
END:VEVENT
BEGIN:VEVENT
DTSTART;TZID=Europe/Vienna:20251204T160000
DTEND;TZID=Europe/Vienna:20251204T180000
DTSTAMP:20260426T033120
CREATED:20240929T103052Z
LAST-MODIFIED:20240929T103059Z
UID:4757-1764864000-1764871200@www.ossbig.at
SUMMARY:77. OSSBIG Vereinssitzung
DESCRIPTION:77. OSSBIG Vereinssitzung (online)
URL:https://www.ossbig.at/event/77-ossbig-vereinssitzung/
LOCATION:Online
CATEGORIES:INTERNES Event,OSSBIG Vereinssitzung
ATTACH;FMTTYPE=image/png:https://www.ossbig.at/wp-content/uploads/2023/05/Vereinssitzung.png
END:VEVENT
BEGIN:VEVENT
DTSTART;TZID=Europe/Vienna:20251204T150000
DTEND;TZID=Europe/Vienna:20251204T160000
DTSTAMP:20260426T033120
CREATED:20240929T102605Z
LAST-MODIFIED:20240929T102612Z
UID:4749-1764860400-1764864000@www.ossbig.at
SUMMARY:77. OSSBIG Vorstandssitzung
DESCRIPTION:77. OSSBIG Vorstandssitzung (online)
URL:https://www.ossbig.at/event/77-ossbig-vorstandssitzung/
LOCATION:Online
CATEGORIES:INTERNES Event,OSSBIG Vorstandssitzung
ATTACH;FMTTYPE=image/png:https://www.ossbig.at/wp-content/uploads/2023/05/Vorstandssitzung.png
END:VEVENT
BEGIN:VEVENT
DTSTART;TZID=Europe/Vienna:20251126T140000
DTEND;TZID=Europe/Vienna:20251126T160000
DTSTAMP:20260426T033120
CREATED:20241018T130327Z
LAST-MODIFIED:20241018T131202Z
UID:4822-1764165600-1764172800@www.ossbig.at
SUMMARY:LAW TALK
DESCRIPTION:
URL:https://www.ossbig.at/event/law-talk/
LOCATION:Compass CUBE\, Schönbrunner Straße 231\, Wien\, 1120\, Austria
CATEGORIES:EXTERNES Event
ATTACH;FMTTYPE=application/pdf:https://www.ossbig.at/wp-content/uploads/2024/10/Law-Talk-2.pdf
END:VEVENT
BEGIN:VEVENT
DTSTART;VALUE=DATE:20251120
DTEND;VALUE=DATE:20251123
DTSTAMP:20260426T033120
CREATED:20250320T204513Z
LAST-MODIFIED:20250320T205133Z
UID:5198-1763600400-1763773199@www.ossbig.at
SUMMARY:Gaia-X Summit 25
DESCRIPTION:
URL:https://www.ossbig.at/event/gaia-x-summit-25/
LOCATION:Porto
CATEGORIES:EXTERNES Event
ATTACH;FMTTYPE=application/pdf:https://www.ossbig.at/wp-content/uploads/2025/03/Gaia-X-Summit.pdf
END:VEVENT
BEGIN:VEVENT
DTSTART;VALUE=DATE:20251118
DTEND;VALUE=DATE:20251120
DTSTAMP:20260426T033120
CREATED:20241219T153618Z
LAST-MODIFIED:20241219T153631Z
UID:4866-1763427600-1763513999@www.ossbig.at
SUMMARY:DINAcon 2025
DESCRIPTION:
URL:https://www.ossbig.at/event/dinacon-2025/
LOCATION:Bern\, Schweiz
CATEGORIES:EXTERNES Event
ATTACH;FMTTYPE=image/png:https://www.ossbig.at/wp-content/uploads/2023/12/DINAcon_Logo_web-1-1.png
END:VEVENT
BEGIN:VEVENT
DTSTART;TZID=Europe/Vienna:20251105T093000
DTEND;TZID=Europe/Vienna:20251105T163000
DTSTAMP:20260426T033120
CREATED:20250929T120719Z
LAST-MODIFIED:20250929T121048Z
UID:5459-1762335000-1762360200@www.ossbig.at
SUMMARY:Digitale Souvereignty goes Energy
DESCRIPTION:
URL:https://www.ossbig.at/event/energie-events/
LOCATION:offen
CATEGORIES:EXTERNES Event
ATTACH;FMTTYPE=application/pdf:https://www.ossbig.at/wp-content/uploads/2025/09/EnergieEvents.pdf
END:VEVENT
BEGIN:VEVENT
DTSTART;VALUE=DATE:20251012
DTEND;VALUE=DATE:20251016
DTSTAMP:20260426T033120
CREATED:20241219T152729Z
LAST-MODIFIED:20250806T134101Z
UID:4861-1760230800-1760489999@www.ossbig.at
SUMMARY:LSZ CIO Kongress
DESCRIPTION:
URL:https://www.ossbig.at/event/lsz-cio-kongress-25/
LOCATION:Congress Loipersdorf\, Schaffelbadstraße 220\, Bad Loipersdorf\, Steiermark\, 8282\, Österreich
CATEGORIES:EXTERNES Event
ATTACH;FMTTYPE=application/pdf:https://www.ossbig.at/wp-content/uploads/2024/01/LSZ.pdf
END:VEVENT
BEGIN:VEVENT
DTSTART;TZID=Europe/Vienna:20251002T160000
DTEND;TZID=Europe/Vienna:20251002T180000
DTSTAMP:20260426T033120
CREATED:20240929T102953Z
LAST-MODIFIED:20250925T081952Z
UID:4755-1759420800-1759428000@www.ossbig.at
SUMMARY:76. OSSBIG Vereinssitzung
DESCRIPTION:76. OSSBIG Vereinssitzung (Austrian Grid Control)
URL:https://www.ossbig.at/event/76-ossbig-vereinssitzung/
LOCATION:Austrian Grid Control\, Am Johannesberg 9\, Wien\, 1100\, Austria
CATEGORIES:INTERNES Event,OSSBIG Vereinssitzung
ATTACH;FMTTYPE=image/png:https://www.ossbig.at/wp-content/uploads/2023/05/Vereinssitzung.png
END:VEVENT
BEGIN:VEVENT
DTSTART;VALUE=DATE:20250930
DTEND;VALUE=DATE:20251004
DTSTAMP:20260426T033120
CREATED:20241018T115757Z
LAST-MODIFIED:20250129T084959Z
UID:4819-1759194000-1759453199@www.ossbig.at
SUMMARY:SSCON25
DESCRIPTION:
URL:https://www.ossbig.at/event/sscon25/
LOCATION:Berlin Congress Center\, Deutschland
CATEGORIES:EXTERNES Event
ATTACH;FMTTYPE=application/pdf:https://www.ossbig.at/wp-content/uploads/2024/10/SSCON25-1.pdf
END:VEVENT
BEGIN:VEVENT
DTSTART;TZID=Europe/Vienna:20250925T160000
DTEND;TZID=Europe/Vienna:20250925T180000
DTSTAMP:20260426T033120
CREATED:20240929T102457Z
LAST-MODIFIED:20241205T172022Z
UID:4747-1758816000-1758823200@www.ossbig.at
SUMMARY:76. OSSBIG Vorstandssitzung
DESCRIPTION:76. OSSBIG Vorstandssitzung (online)
URL:https://www.ossbig.at/event/76-ossbig-vorstandssitzung/
LOCATION:Online
CATEGORIES:INTERNES Event,OSSBIG Vorstandssitzung
ATTACH;FMTTYPE=image/png:https://www.ossbig.at/wp-content/uploads/2023/05/Vorstandssitzung.png
END:VEVENT
BEGIN:VEVENT
DTSTART;VALUE=DATE:20250925
DTEND;VALUE=DATE:20250927
DTSTAMP:20260426T033120
CREATED:20250819T103101Z
LAST-MODIFIED:20250819T104901Z
UID:5407-1758762000-1758848399@www.ossbig.at
SUMMARY:OPENSHIFT Anwendertreffen
DESCRIPTION:
URL:https://www.ossbig.at/event/openshift-anwendertreffen/
LOCATION:MA 01 – Wien Digital\, Stadlauer Straße 54-56\, Wien\, 1220\, Austria
CATEGORIES:EXTERNES Event
ATTACH;FMTTYPE=image/webp:https://www.ossbig.at/wp-content/uploads/2025/08/OpenShift-Anwendertreffen.webp
END:VEVENT
BEGIN:VEVENT
DTSTART;TZID=Europe/Vienna:20250924T100000
DTEND;TZID=Europe/Vienna:20250924T190000
DTSTAMP:20260426T033120
CREATED:20250806T134650Z
LAST-MODIFIED:20250806T134700Z
UID:5389-1758708000-1758740400@www.ossbig.at
SUMMARY:SCS Summit 25
DESCRIPTION:
URL:https://www.ossbig.at/event/scs-summt-25/
LOCATION:Palisa\, Palisadenstraße 48\, Berlin\, 10243\, Germany
CATEGORIES:EXTERNES Event
ATTACH;FMTTYPE=application/pdf:https://www.ossbig.at/wp-content/uploads/2025/08/SCS-Summit-25.pdf
END:VEVENT
BEGIN:VEVENT
DTSTART;TZID=Europe/Vienna:20250915T140000
DTEND;TZID=Europe/Vienna:20250915T183000
DTSTAMP:20260426T033120
CREATED:20250825T094639Z
LAST-MODIFIED:20250825T094655Z
UID:5412-1757944800-1757961000@www.ossbig.at
SUMMARY:FIWARE iHUB
DESCRIPTION:
URL:https://www.ossbig.at/event/fiware-ihub/
LOCATION:Lumia\, Am grünen Prater 2\, Wien\, Wien\, 1020\, Austria
CATEGORIES:EXTERNES Event
ATTACH;FMTTYPE=application/pdf:https://www.ossbig.at/wp-content/uploads/2025/08/iHUB.pdf
END:VEVENT
BEGIN:VEVENT
DTSTART;TZID=Europe/Vienna:20250911T130000
DTEND;TZID=Europe/Vienna:20250911T210000
DTSTAMP:20260426T033120
CREATED:20250806T133753Z
LAST-MODIFIED:20250806T133803Z
UID:5385-1757595600-1757624400@www.ossbig.at
SUMMARY:Internet Summit 2025
DESCRIPTION:
URL:https://www.ossbig.at/event/internet-summit-25/
LOCATION:Tech Gate Vienna\, Donau City Straße 1\, Wien\, 1220\, Austria
CATEGORIES:EXTERNES Event
ATTACH;FMTTYPE=image/png:https://www.ossbig.at/wp-content/uploads/2025/08/ISPA_Internet_Summit_Digitale_Demokratie_Header_1400x400mm_4-1.png
END:VEVENT
BEGIN:VEVENT
DTSTART;VALUE=DATE:20250911
DTEND;VALUE=DATE:20250914
DTSTAMP:20260426T033120
CREATED:20250320T205012Z
LAST-MODIFIED:20250320T205019Z
UID:5202-1757552400-1757725199@www.ossbig.at
SUMMARY:TechTalks 25
DESCRIPTION:
URL:https://www.ossbig.at/event/techtalks-25/
LOCATION:Museumsquartier
CATEGORIES:EXTERNES Event
ATTACH;FMTTYPE=application/pdf:https://www.ossbig.at/wp-content/uploads/2025/03/TechTalks.pdf
END:VEVENT
BEGIN:VEVENT
DTSTART;VALUE=DATE:20250825
DTEND;VALUE=DATE:20250829
DTSTAMP:20260426T033120
CREATED:20240930T152045Z
LAST-MODIFIED:20250212T060929Z
UID:4768-1756083600-1756342799@www.ossbig.at
SUMMARY:Open Source Summit Europe 2025
DESCRIPTION:
URL:https://www.ossbig.at/event/open-source-summit-europe-2025/
LOCATION:Amsterdam
CATEGORIES:EXTERNES Event
ATTACH;FMTTYPE=application/pdf:https://www.ossbig.at/wp-content/uploads/2024/09/Open-Source-Summit.pdf
END:VEVENT
BEGIN:VEVENT
DTSTART;VALUE=DATE:20250701
DTEND;VALUE=DATE:20250704
DTSTAMP:20260426T033120
CREATED:20250613T072217Z
LAST-MODIFIED:20250613T072225Z
UID:5272-1751331600-1751504399@www.ossbig.at
SUMMARY:Global Digital Collaboration
DESCRIPTION:
URL:https://www.ossbig.at/event/gdc25/
LOCATION:Genf\, Genf\, Switzerland
CATEGORIES:EXTERNES Event
ATTACH;FMTTYPE=application/pdf:https://www.ossbig.at/wp-content/uploads/2025/06/GDC25.pdf
END:VEVENT
BEGIN:VEVENT
DTSTART;TZID=Europe/Vienna:20250626T160000
DTEND;TZID=Europe/Vienna:20250626T180000
DTSTAMP:20260426T033120
CREATED:20240929T102847Z
LAST-MODIFIED:20241205T172123Z
UID:4753-1750953600-1750960800@www.ossbig.at
SUMMARY:75. OSSBIG Vereinssitzung
DESCRIPTION:75. OSSBIG Vereinssitzung (online)
URL:https://www.ossbig.at/event/75-ossbig-vereinssitzung/
LOCATION:Online
CATEGORIES:INTERNES Event,OSSBIG Vereinssitzung
ATTACH;FMTTYPE=image/png:https://www.ossbig.at/wp-content/uploads/2023/05/Vereinssitzung.png
END:VEVENT
BEGIN:VEVENT
DTSTART;TZID=Europe/Vienna:20250625T100000
DTEND;TZID=Europe/Vienna:20250625T160000
DTSTAMP:20260426T033120
CREATED:20241219T153320Z
LAST-MODIFIED:20241219T153328Z
UID:4863-1750845600-1750867200@www.ossbig.at
SUMMARY:eIDAS Summit 2025
DESCRIPTION:
URL:https://www.ossbig.at/event/eidas-summit-2025/
LOCATION:Hybrid
CATEGORIES:EXTERNES Event
ATTACH;FMTTYPE=application/pdf:https://www.ossbig.at/wp-content/uploads/2024/12/eIDAS-Summit-25.pdf
END:VEVENT
END:VCALENDAR